BEGIN:VCALENDAR
VERSION:2.0
PRODID:-//Taumarunui Golf Club - ECPv6.15.20//NONSGML v1.0//EN
CALSCALE:GREGORIAN
METHOD:PUBLISH
X-ORIGINAL-URL:https://www.taumarunuigolfclub.co.nz
X-WR-CALDESC:Events for Taumarunui Golf Club
REFRESH-INTERVAL;VALUE=DURATION:PT1H
X-Robots-Tag:noindex
X-PUBLISHED-TTL:PT1H
BEGIN:VTIMEZONE
TZID:Pacific/Auckland
BEGIN:STANDARD
TZOFFSETFROM:+1300
TZOFFSETTO:+1200
TZNAME:NZST
DTSTART:20240406T140000
END:STANDARD
BEGIN:DAYLIGHT
TZOFFSETFROM:+1200
TZOFFSETTO:+1300
TZNAME:NZDT
DTSTART:20240928T140000
END:DAYLIGHT
BEGIN:STANDARD
TZOFFSETFROM:+1300
TZOFFSETTO:+1200
TZNAME:NZST
DTSTART:20250405T140000
END:STANDARD
BEGIN:DAYLIGHT
TZOFFSETFROM:+1200
TZOFFSETTO:+1300
TZNAME:NZDT
DTSTART:20250927T140000
END:DAYLIGHT
BEGIN:STANDARD
TZOFFSETFROM:+1300
TZOFFSETTO:+1200
TZNAME:NZST
DTSTART:20260404T140000
END:STANDARD
BEGIN:DAYLIGHT
TZOFFSETFROM:+1200
TZOFFSETTO:+1300
TZNAME:NZDT
DTSTART:20260926T140000
END:DAYLIGHT
END:VTIMEZONE
BEGIN:VEVENT
DTSTART;TZID=Pacific/Auckland:20250531T000000
DTEND;TZID=Pacific/Auckland:20250602T235900
DTSTAMP:20260423T145706
CREATED:20250625T044201Z
LAST-MODIFIED:20250625T044201Z
UID:7851-1748649600-1748908740@www.taumarunuigolfclub.co.nz
SUMMARY:King Country Match Play - King's Birthday Weekend Tournament
DESCRIPTION:
URL:https://www.taumarunuigolfclub.co.nz/event/king-country-match-play-kings-birthday-weekend-tournament-3/
END:VEVENT
BEGIN:VEVENT
DTSTART;TZID=Pacific/Auckland:20250604T103000
DTEND;TZID=Pacific/Auckland:20250604T143000
DTSTAMP:20260423T145706
CREATED:20250625T044232Z
LAST-MODIFIED:20250625T044232Z
UID:7862-1749033000-1749047400@www.taumarunuigolfclub.co.nz
SUMMARY:Putting 2
DESCRIPTION:
URL:https://www.taumarunuigolfclub.co.nz/event/putting-2-3/
END:VEVENT
BEGIN:VEVENT
DTSTART;TZID=Pacific/Auckland:20250607T113000
DTEND;TZID=Pacific/Auckland:20250607T153000
DTSTAMP:20260423T145706
CREATED:20250625T044202Z
LAST-MODIFIED:20250625T044202Z
UID:7852-1749295800-1749310200@www.taumarunuigolfclub.co.nz
SUMMARY:Club Day
DESCRIPTION:
URL:https://www.taumarunuigolfclub.co.nz/event/club-day-20/
END:VEVENT
BEGIN:VEVENT
DTSTART;TZID=Pacific/Auckland:20250608T113000
DTEND;TZID=Pacific/Auckland:20250608T153000
DTSTAMP:20260423T145706
CREATED:20250625T044217Z
LAST-MODIFIED:20250625T044217Z
UID:7859-1749382200-1749396600@www.taumarunuigolfclub.co.nz
SUMMARY:Kamaru Rosebowl - mixed competition
DESCRIPTION:
URL:https://www.taumarunuigolfclub.co.nz/event/kamaru-rosebowl-mixed-competition-3/
END:VEVENT
BEGIN:VEVENT
DTSTART;TZID=Pacific/Auckland:20250611T113000
DTEND;TZID=Pacific/Auckland:20250611T153000
DTSTAMP:20260423T145706
CREATED:20250625T044232Z
LAST-MODIFIED:20250625T044232Z
UID:7863-1749641400-1749655800@www.taumarunuigolfclub.co.nz
SUMMARY:LGU 4\, McElroy Cup 2
DESCRIPTION:
URL:https://www.taumarunuigolfclub.co.nz/event/lgu-4-mcelroy-cup-2-3/
END:VEVENT
BEGIN:VEVENT
DTSTART;TZID=Pacific/Auckland:20250614T113000
DTEND;TZID=Pacific/Auckland:20250614T153000
DTSTAMP:20260423T145706
CREATED:20250625T044231Z
LAST-MODIFIED:20250625T044231Z
UID:7860-1749900600-1749915000@www.taumarunuigolfclub.co.nz
SUMMARY:Club Day
DESCRIPTION:
URL:https://www.taumarunuigolfclub.co.nz/event/club-day-22/
END:VEVENT
BEGIN:VEVENT
DTSTART;TZID=Pacific/Auckland:20250618T103000
DTEND;TZID=Pacific/Auckland:20250618T143000
DTSTAMP:20260423T145706
CREATED:20250625T044232Z
LAST-MODIFIED:20250625T044232Z
UID:7864-1750242600-1750257000@www.taumarunuigolfclub.co.nz
SUMMARY:Jubilee Cup 1
DESCRIPTION:
URL:https://www.taumarunuigolfclub.co.nz/event/jubilee-cup-1-3/
END:VEVENT
BEGIN:VEVENT
DTSTART;TZID=Pacific/Auckland:20250625T103000
DTEND;TZID=Pacific/Auckland:20250625T153000
DTSTAMP:20260423T145706
CREATED:20250625T044246Z
LAST-MODIFIED:20250625T044247Z
UID:7865-1750847400-1750865400@www.taumarunuigolfclub.co.nz
SUMMARY:Jubilee Cup 2
DESCRIPTION:
URL:https://www.taumarunuigolfclub.co.nz/event/jubilee-cup-2-3/
END:VEVENT
BEGIN:VEVENT
DTSTART;TZID=Pacific/Auckland:20250628T113000
DTEND;TZID=Pacific/Auckland:20250628T153000
DTSTAMP:20260423T145706
CREATED:20250625T044231Z
LAST-MODIFIED:20250625T044231Z
UID:7861-1751110200-1751124600@www.taumarunuigolfclub.co.nz
SUMMARY:Club Day
DESCRIPTION:
URL:https://www.taumarunuigolfclub.co.nz/event/club-day-23/
END:VEVENT
END:VCALENDAR