BEGIN:VCALENDAR
VERSION:2.0
PRODID:-//Taumarunui Golf Club - ECPv6.15.20//NONSGML v1.0//EN
CALSCALE:GREGORIAN
METHOD:PUBLISH
X-ORIGINAL-URL:https://www.taumarunuigolfclub.co.nz
X-WR-CALDESC:Events for Taumarunui Golf Club
REFRESH-INTERVAL;VALUE=DURATION:PT1H
X-Robots-Tag:noindex
X-PUBLISHED-TTL:PT1H
BEGIN:VTIMEZONE
TZID:Pacific/Auckland
BEGIN:STANDARD
TZOFFSETFROM:+1300
TZOFFSETTO:+1200
TZNAME:NZST
DTSTART:20240406T140000
END:STANDARD
BEGIN:DAYLIGHT
TZOFFSETFROM:+1200
TZOFFSETTO:+1300
TZNAME:NZDT
DTSTART:20240928T140000
END:DAYLIGHT
BEGIN:STANDARD
TZOFFSETFROM:+1300
TZOFFSETTO:+1200
TZNAME:NZST
DTSTART:20250405T140000
END:STANDARD
BEGIN:DAYLIGHT
TZOFFSETFROM:+1200
TZOFFSETTO:+1300
TZNAME:NZDT
DTSTART:20250927T140000
END:DAYLIGHT
BEGIN:STANDARD
TZOFFSETFROM:+1300
TZOFFSETTO:+1200
TZNAME:NZST
DTSTART:20260404T140000
END:STANDARD
BEGIN:DAYLIGHT
TZOFFSETFROM:+1200
TZOFFSETTO:+1300
TZNAME:NZDT
DTSTART:20260926T140000
END:DAYLIGHT
END:VTIMEZONE
BEGIN:VEVENT
DTSTART;TZID=Pacific/Auckland:20250903T100000
DTEND;TZID=Pacific/Auckland:20250903T140000
DTSTAMP:20260423T091746
CREATED:20250625T044425Z
LAST-MODIFIED:20250625T044425Z
UID:7894-1756893600-1756908000@www.taumarunuigolfclub.co.nz
SUMMARY:Stableford Trophy 4\, Jane Brown Stableford Trophy 3 (40.4+)
DESCRIPTION:
URL:https://www.taumarunuigolfclub.co.nz/event/stableford-trophy-4-jane-brown-stableford-trophy-3-40-4-3/
END:VEVENT
BEGIN:VEVENT
DTSTART;TZID=Pacific/Auckland:20250906T000000
DTEND;TZID=Pacific/Auckland:20250907T235900
DTSTAMP:20260423T091746
CREATED:20250625T044424Z
LAST-MODIFIED:20250625T044424Z
UID:7890-1757116800-1757289540@www.taumarunuigolfclub.co.nz
SUMMARY:Annual Lefties Tournament
DESCRIPTION:
URL:https://www.taumarunuigolfclub.co.nz/event/annual-lefties-tournament-3/
END:VEVENT
BEGIN:VEVENT
DTSTART;TZID=Pacific/Auckland:20250910T100000
DTEND;TZID=Pacific/Auckland:20250910T140000
DTSTAMP:20260423T091746
CREATED:20250625T044430Z
LAST-MODIFIED:20250625T044430Z
UID:7895-1757498400-1757512800@www.taumarunuigolfclub.co.nz
SUMMARY:LGU 7\, Captain's Trophy 4\, McElroy Cup 5
DESCRIPTION:
URL:https://www.taumarunuigolfclub.co.nz/event/lgu-7-captains-trophy-4-mcelroy-cup-5-3/
END:VEVENT
BEGIN:VEVENT
DTSTART;TZID=Pacific/Auckland:20250913T113000
DTEND;TZID=Pacific/Auckland:20250913T153000
DTSTAMP:20260423T091746
CREATED:20250625T044424Z
LAST-MODIFIED:20250625T044424Z
UID:7891-1757763000-1757777400@www.taumarunuigolfclub.co.nz
SUMMARY:Club Day
DESCRIPTION:
URL:https://www.taumarunuigolfclub.co.nz/event/club-day-27/
END:VEVENT
BEGIN:VEVENT
DTSTART;TZID=Pacific/Auckland:20250917T100000
DTEND;TZID=Pacific/Auckland:20250917T140000
DTSTAMP:20260423T091746
CREATED:20250625T044430Z
LAST-MODIFIED:20250625T044430Z
UID:7896-1758103200-1758117600@www.taumarunuigolfclub.co.nz
SUMMARY:Club Day
DESCRIPTION:
URL:https://www.taumarunuigolfclub.co.nz/event/club-day-28/
END:VEVENT
BEGIN:VEVENT
DTSTART;TZID=Pacific/Auckland:20250920T113000
DTEND;TZID=Pacific/Auckland:20250920T153000
DTSTAMP:20260423T091746
CREATED:20250625T044424Z
LAST-MODIFIED:20250625T044424Z
UID:7892-1758367800-1758382200@www.taumarunuigolfclub.co.nz
SUMMARY:Club Championship 1
DESCRIPTION:
URL:https://www.taumarunuigolfclub.co.nz/event/club-championship-1-3/
END:VEVENT
BEGIN:VEVENT
DTSTART;TZID=Pacific/Auckland:20250924T100000
DTEND;TZID=Pacific/Auckland:20250924T140000
DTSTAMP:20260423T091746
CREATED:20250625T044430Z
LAST-MODIFIED:20250625T044430Z
UID:7897-1758708000-1758722400@www.taumarunuigolfclub.co.nz
SUMMARY:Stableford Trophy 5\, Jane Brown Stableford Trophy 4 (40.4+)
DESCRIPTION:
URL:https://www.taumarunuigolfclub.co.nz/event/stableford-trophy-5-jane-brown-stableford-trophy-4-40-4-3/
END:VEVENT
BEGIN:VEVENT
DTSTART;TZID=Pacific/Auckland:20250926T000000
DTEND;TZID=Pacific/Auckland:20250928T235900
DTSTAMP:20260423T091746
CREATED:20250625T044425Z
LAST-MODIFIED:20250625T044425Z
UID:7893-1758844800-1759103940@www.taumarunuigolfclub.co.nz
SUMMARY:King Country Champs
DESCRIPTION:
URL:https://www.taumarunuigolfclub.co.nz/event/king-country-champs-3/
END:VEVENT
END:VCALENDAR