BEGIN:VCALENDAR
VERSION:2.0
PRODID:-//Taumarunui Golf Club - ECPv6.15.20//NONSGML v1.0//EN
CALSCALE:GREGORIAN
METHOD:PUBLISH
X-ORIGINAL-URL:https://www.taumarunuigolfclub.co.nz
X-WR-CALDESC:Events for Taumarunui Golf Club
REFRESH-INTERVAL;VALUE=DURATION:PT1H
X-Robots-Tag:noindex
X-PUBLISHED-TTL:PT1H
BEGIN:VTIMEZONE
TZID:Pacific/Auckland
BEGIN:STANDARD
TZOFFSETFROM:+1300
TZOFFSETTO:+1200
TZNAME:NZST
DTSTART:20240406T140000
END:STANDARD
BEGIN:DAYLIGHT
TZOFFSETFROM:+1200
TZOFFSETTO:+1300
TZNAME:NZDT
DTSTART:20240928T140000
END:DAYLIGHT
BEGIN:STANDARD
TZOFFSETFROM:+1300
TZOFFSETTO:+1200
TZNAME:NZST
DTSTART:20250405T140000
END:STANDARD
BEGIN:DAYLIGHT
TZOFFSETFROM:+1200
TZOFFSETTO:+1300
TZNAME:NZDT
DTSTART:20250927T140000
END:DAYLIGHT
BEGIN:STANDARD
TZOFFSETFROM:+1300
TZOFFSETTO:+1200
TZNAME:NZST
DTSTART:20260404T140000
END:STANDARD
BEGIN:DAYLIGHT
TZOFFSETFROM:+1200
TZOFFSETTO:+1300
TZNAME:NZDT
DTSTART:20260926T140000
END:DAYLIGHT
END:VTIMEZONE
BEGIN:VEVENT
DTSTART;TZID=Pacific/Auckland:20251101T113000
DTEND;TZID=Pacific/Auckland:20251101T153000
DTSTAMP:20260423T060314
CREATED:20250625T044509Z
LAST-MODIFIED:20250625T044509Z
UID:7910-1761996600-1762011000@www.taumarunuigolfclub.co.nz
SUMMARY:Club Champs Finals
DESCRIPTION:
URL:https://www.taumarunuigolfclub.co.nz/event/club-champs-finals-3/
END:VEVENT
BEGIN:VEVENT
DTSTART;TZID=Pacific/Auckland:20251105T100000
DTEND;TZID=Pacific/Auckland:20251105T130000
DTSTAMP:20260423T060314
CREATED:20250625T044509Z
LAST-MODIFIED:20250625T044509Z
UID:7909-1762336800-1762347600@www.taumarunuigolfclub.co.nz
SUMMARY:Ladies Closing Day\, AGM & Prizegiving
DESCRIPTION:
URL:https://www.taumarunuigolfclub.co.nz/event/ladies-closing-day-agm-prizegiving-3/
END:VEVENT
BEGIN:VEVENT
DTSTART;TZID=Pacific/Auckland:20251109T000000
DTEND;TZID=Pacific/Auckland:20251109T235900
DTSTAMP:20260423T060314
CREATED:20250625T044509Z
LAST-MODIFIED:20251111T045308Z
UID:7911-1762646400-1762732740@www.taumarunuigolfclub.co.nz
SUMMARY:Men's Shootout
DESCRIPTION:
URL:https://www.taumarunuigolfclub.co.nz/event/mens-shootout-3/
END:VEVENT
BEGIN:VEVENT
DTSTART;TZID=Pacific/Auckland:20251115T000000
DTEND;TZID=Pacific/Auckland:20251116T235900
DTSTAMP:20260423T060314
CREATED:20250625T044509Z
LAST-MODIFIED:20250625T044509Z
UID:7912-1763164800-1763337540@www.taumarunuigolfclub.co.nz
SUMMARY:North Island Meat Workers Tournament
DESCRIPTION:
URL:https://www.taumarunuigolfclub.co.nz/event/north-island-meat-workers-tournament-3/
END:VEVENT
BEGIN:VEVENT
DTSTART;TZID=Pacific/Auckland:20251121T080000
DTEND;TZID=Pacific/Auckland:20251123T170000
DTSTAMP:20260423T060314
CREATED:20250625T044631Z
LAST-MODIFIED:20250625T044631Z
UID:7914-1763712000-1763917200@www.taumarunuigolfclub.co.nz
SUMMARY:North Island Railways Tournament
DESCRIPTION:
URL:https://www.taumarunuigolfclub.co.nz/event/north-island-railways-tournament-2/
END:VEVENT
END:VCALENDAR