BEGIN:VCALENDAR
VERSION:2.0
PRODID:-//Taumarunui Golf Club - ECPv6.15.20//NONSGML v1.0//EN
CALSCALE:GREGORIAN
METHOD:PUBLISH
X-ORIGINAL-URL:https://www.taumarunuigolfclub.co.nz
X-WR-CALDESC:Events for Taumarunui Golf Club
REFRESH-INTERVAL;VALUE=DURATION:PT1H
X-Robots-Tag:noindex
X-PUBLISHED-TTL:PT1H
BEGIN:VTIMEZONE
TZID:Pacific/Auckland
BEGIN:STANDARD
TZOFFSETFROM:+1300
TZOFFSETTO:+1200
TZNAME:NZST
DTSTART:20250405T140000
END:STANDARD
BEGIN:DAYLIGHT
TZOFFSETFROM:+1200
TZOFFSETTO:+1300
TZNAME:NZDT
DTSTART:20250927T140000
END:DAYLIGHT
BEGIN:STANDARD
TZOFFSETFROM:+1300
TZOFFSETTO:+1200
TZNAME:NZST
DTSTART:20260404T140000
END:STANDARD
BEGIN:DAYLIGHT
TZOFFSETFROM:+1200
TZOFFSETTO:+1300
TZNAME:NZDT
DTSTART:20260926T140000
END:DAYLIGHT
BEGIN:STANDARD
TZOFFSETFROM:+1300
TZOFFSETTO:+1200
TZNAME:NZST
DTSTART:20270403T140000
END:STANDARD
BEGIN:DAYLIGHT
TZOFFSETFROM:+1200
TZOFFSETTO:+1300
TZNAME:NZDT
DTSTART:20270925T140000
END:DAYLIGHT
END:VTIMEZONE
BEGIN:VEVENT
DTSTART;TZID=Pacific/Auckland:20260101T103000
DTEND;TZID=Pacific/Auckland:20260101T103000
DTSTAMP:20260423T021059
CREATED:20251203T203607Z
LAST-MODIFIED:20251221T202237Z
UID:8141-1767263400-1767263400@www.taumarunuigolfclub.co.nz
SUMMARY:Mid-week Golf - visitors welcome - 10.30 tee off
DESCRIPTION:
URL:https://www.taumarunuigolfclub.co.nz/event/mid-week-golf-visitors-welcome-10-30-tee-off-7/
END:VEVENT
BEGIN:VEVENT
DTSTART;TZID=Pacific/Auckland:20260104T110000
DTEND;TZID=Pacific/Auckland:20260104T110000
DTSTAMP:20260423T021059
CREATED:20251227T211411Z
LAST-MODIFIED:20251227T211441Z
UID:8179-1767524400-1767524400@www.taumarunuigolfclub.co.nz
SUMMARY:Summer Cup 1
DESCRIPTION:
URL:https://www.taumarunuigolfclub.co.nz/event/summer-cup-1/
END:VEVENT
BEGIN:VEVENT
DTSTART;TZID=Pacific/Auckland:20260106T113000
DTEND;TZID=Pacific/Auckland:20260106T113000
DTSTAMP:20260423T021059
CREATED:20251203T202214Z
LAST-MODIFIED:20251221T202155Z
UID:8112-1767699000-1767699000@www.taumarunuigolfclub.co.nz
SUMMARY:Mid-week Golf - visitors welcome - 11.30 tee off
DESCRIPTION:
URL:https://www.taumarunuigolfclub.co.nz/event/mid-week-golf-visitors-welcome-11-30-tee-off-2/
END:VEVENT
BEGIN:VEVENT
DTSTART;TZID=Pacific/Auckland:20260108T103000
DTEND;TZID=Pacific/Auckland:20260108T103000
DTSTAMP:20260423T021059
CREATED:20251203T203647Z
LAST-MODIFIED:20251221T202118Z
UID:8143-1767868200-1767868200@www.taumarunuigolfclub.co.nz
SUMMARY:Mid-week Golf - visitors welcome - 10.30 tee off
DESCRIPTION:
URL:https://www.taumarunuigolfclub.co.nz/event/mid-week-golf-visitors-welcome-10-30-tee-off-8/
END:VEVENT
BEGIN:VEVENT
DTSTART;TZID=Pacific/Auckland:20260111T110000
DTEND;TZID=Pacific/Auckland:20260111T110000
DTSTAMP:20260423T021059
CREATED:20251227T211600Z
LAST-MODIFIED:20251227T211600Z
UID:8182-1768129200-1768129200@www.taumarunuigolfclub.co.nz
SUMMARY:Summer Cup 2
DESCRIPTION:
URL:https://www.taumarunuigolfclub.co.nz/event/summer-cup-2/
END:VEVENT
BEGIN:VEVENT
DTSTART;TZID=Pacific/Auckland:20260113T113000
DTEND;TZID=Pacific/Auckland:20260113T113000
DTSTAMP:20260423T021059
CREATED:20251203T202257Z
LAST-MODIFIED:20251221T202047Z
UID:8114-1768303800-1768303800@www.taumarunuigolfclub.co.nz
SUMMARY:Mid-week Golf - visitors welcome - 11.30 tee off
DESCRIPTION:
URL:https://www.taumarunuigolfclub.co.nz/event/mid-week-golf-visitors-welcome-11-30-tee-off-3/
END:VEVENT
BEGIN:VEVENT
DTSTART;TZID=Pacific/Auckland:20260115T103000
DTEND;TZID=Pacific/Auckland:20260115T103000
DTSTAMP:20260423T021059
CREATED:20251203T203718Z
LAST-MODIFIED:20251221T202015Z
UID:8145-1768473000-1768473000@www.taumarunuigolfclub.co.nz
SUMMARY:Mid-week Golf - visitors welcome - 10.30 tee off
DESCRIPTION:
URL:https://www.taumarunuigolfclub.co.nz/event/mid-week-golf-visitors-welcome-10-30-tee-off-9/
END:VEVENT
BEGIN:VEVENT
DTSTART;TZID=Pacific/Auckland:20260118T110000
DTEND;TZID=Pacific/Auckland:20260118T110000
DTSTAMP:20260423T021059
CREATED:20251227T211639Z
LAST-MODIFIED:20251227T211639Z
UID:8184-1768734000-1768734000@www.taumarunuigolfclub.co.nz
SUMMARY:Summer Cup 3
DESCRIPTION:
URL:https://www.taumarunuigolfclub.co.nz/event/summer-cup-3/
END:VEVENT
BEGIN:VEVENT
DTSTART;TZID=Pacific/Auckland:20260120T113000
DTEND;TZID=Pacific/Auckland:20260120T113000
DTSTAMP:20260423T021059
CREATED:20251203T202347Z
LAST-MODIFIED:20251221T201942Z
UID:8116-1768908600-1768908600@www.taumarunuigolfclub.co.nz
SUMMARY:Mid-week Golf - visitors welcome - 11.30 tee off
DESCRIPTION:
URL:https://www.taumarunuigolfclub.co.nz/event/mid-week-golf-visitors-welcome-11-30-tee-off-4/
END:VEVENT
BEGIN:VEVENT
DTSTART;TZID=Pacific/Auckland:20260122T103000
DTEND;TZID=Pacific/Auckland:20260122T103000
DTSTAMP:20260423T021059
CREATED:20251203T203757Z
LAST-MODIFIED:20251221T201910Z
UID:8147-1769077800-1769077800@www.taumarunuigolfclub.co.nz
SUMMARY:Mid-week Golf - visitors welcome - 10.30 tee off
DESCRIPTION:
URL:https://www.taumarunuigolfclub.co.nz/event/mid-week-golf-visitors-welcome-10-30-tee-off-10/
END:VEVENT
BEGIN:VEVENT
DTSTART;TZID=Pacific/Auckland:20260124T080000
DTEND;TZID=Pacific/Auckland:20260124T080000
DTSTAMP:20260423T021059
CREATED:20251220T021627Z
LAST-MODIFIED:20251221T195957Z
UID:8164-1769241600-1769241600@www.taumarunuigolfclub.co.nz
SUMMARY:Heaps Tournament Practice Round
DESCRIPTION:
URL:https://www.taumarunuigolfclub.co.nz/event/heaps-tournament-practice-round/
END:VEVENT
BEGIN:VEVENT
DTSTART;VALUE=DATE:20260125
DTEND;VALUE=DATE:20260126
DTSTAMP:20260423T021059
CREATED:20251220T021937Z
LAST-MODIFIED:20251221T200702Z
UID:8166-1769299200-1769385599@www.taumarunuigolfclub.co.nz
SUMMARY:Heaps Tournament - tee off between 7.30am to 12.30pm
DESCRIPTION:
URL:https://www.taumarunuigolfclub.co.nz/event/heaps-tournament/
END:VEVENT
BEGIN:VEVENT
DTSTART;TZID=Pacific/Auckland:20260127T113000
DTEND;TZID=Pacific/Auckland:20260127T113000
DTSTAMP:20260423T021059
CREATED:20251203T202428Z
LAST-MODIFIED:20251221T201829Z
UID:8118-1769513400-1769513400@www.taumarunuigolfclub.co.nz
SUMMARY:Mid-week Golf - visitors welcome - 11.30 tee off
DESCRIPTION:
URL:https://www.taumarunuigolfclub.co.nz/event/mid-week-golf-visitors-welcome-11-30-tee-off-5/
END:VEVENT
BEGIN:VEVENT
DTSTART;TZID=Pacific/Auckland:20260129T103000
DTEND;TZID=Pacific/Auckland:20260129T103000
DTSTAMP:20260423T021059
CREATED:20251203T203838Z
LAST-MODIFIED:20251221T201755Z
UID:8149-1769682600-1769682600@www.taumarunuigolfclub.co.nz
SUMMARY:Mid-week Golf - visitors welcome - 10.30 tee off
DESCRIPTION:
URL:https://www.taumarunuigolfclub.co.nz/event/mid-week-golf-visitors-welcome-10-30-tee-off-11/
END:VEVENT
END:VCALENDAR