BEGIN:VCALENDAR
VERSION:2.0
PRODID:-//Taumarunui Golf Club - ECPv6.15.20//NONSGML v1.0//EN
CALSCALE:GREGORIAN
METHOD:PUBLISH
X-WR-CALNAME:Taumarunui Golf Club
X-ORIGINAL-URL:https://www.taumarunuigolfclub.co.nz
X-WR-CALDESC:Events for Taumarunui Golf Club
REFRESH-INTERVAL;VALUE=DURATION:PT1H
X-Robots-Tag:noindex
X-PUBLISHED-TTL:PT1H
BEGIN:VTIMEZONE
TZID:Pacific/Auckland
BEGIN:STANDARD
TZOFFSETFROM:+1300
TZOFFSETTO:+1200
TZNAME:NZST
DTSTART:20250405T140000
END:STANDARD
BEGIN:DAYLIGHT
TZOFFSETFROM:+1200
TZOFFSETTO:+1300
TZNAME:NZDT
DTSTART:20250927T140000
END:DAYLIGHT
BEGIN:STANDARD
TZOFFSETFROM:+1300
TZOFFSETTO:+1200
TZNAME:NZST
DTSTART:20260404T140000
END:STANDARD
BEGIN:DAYLIGHT
TZOFFSETFROM:+1200
TZOFFSETTO:+1300
TZNAME:NZDT
DTSTART:20260926T140000
END:DAYLIGHT
BEGIN:STANDARD
TZOFFSETFROM:+1300
TZOFFSETTO:+1200
TZNAME:NZST
DTSTART:20270403T140000
END:STANDARD
BEGIN:DAYLIGHT
TZOFFSETFROM:+1200
TZOFFSETTO:+1300
TZNAME:NZDT
DTSTART:20270925T140000
END:DAYLIGHT
END:VTIMEZONE
BEGIN:VEVENT
DTSTART;TZID=Pacific/Auckland:20260201T113000
DTEND;TZID=Pacific/Auckland:20260201T113000
DTSTAMP:20260423T002913
CREATED:20251227T212058Z
LAST-MODIFIED:20251227T212058Z
UID:8186-1769945400-1769945400@www.taumarunuigolfclub.co.nz
SUMMARY:General Opening Day - Coker Salver - all members
DESCRIPTION:
URL:https://www.taumarunuigolfclub.co.nz/event/general-opening-day-coker-salver-all-members/
END:VEVENT
BEGIN:VEVENT
DTSTART;TZID=Pacific/Auckland:20260203T113000
DTEND;TZID=Pacific/Auckland:20260203T113000
DTSTAMP:20260423T002913
CREATED:20251203T202558Z
LAST-MODIFIED:20251221T201718Z
UID:8120-1770118200-1770118200@www.taumarunuigolfclub.co.nz
SUMMARY:Mid-week Golf - visitors welcome - 11.30 tee off
DESCRIPTION:
URL:https://www.taumarunuigolfclub.co.nz/event/mid-week-golf-visitors-welcome-11-30-tee-off-6/
END:VEVENT
BEGIN:VEVENT
DTSTART;VALUE=DATE:20260204
DTEND;VALUE=DATE:20260207
DTSTAMP:20260423T002913
CREATED:20251203T205031Z
LAST-MODIFIED:20251203T205031Z
UID:8160-1770163200-1770422399@www.taumarunuigolfclub.co.nz
SUMMARY:37th Seniors Strokeplay Tournament proudly sponsored by Property Brokers
DESCRIPTION:
URL:https://www.taumarunuigolfclub.co.nz/event/37th-seniors-strokeplay-tournament-proudly-sponsored-by-property-brokers/
END:VEVENT
BEGIN:VEVENT
DTSTART;TZID=Pacific/Auckland:20260207T113000
DTEND;TZID=Pacific/Auckland:20260207T113000
DTSTAMP:20260423T002913
CREATED:20251227T212145Z
LAST-MODIFIED:20251227T212145Z
UID:8188-1770463800-1770463800@www.taumarunuigolfclub.co.nz
SUMMARY:Tarrangower Shield 1
DESCRIPTION:
URL:https://www.taumarunuigolfclub.co.nz/event/tarrangower-shield-1/
END:VEVENT
BEGIN:VEVENT
DTSTART;TZID=Pacific/Auckland:20260210T113000
DTEND;TZID=Pacific/Auckland:20260210T113000
DTSTAMP:20260423T002913
CREATED:20251203T202636Z
LAST-MODIFIED:20251221T201159Z
UID:8122-1770723000-1770723000@www.taumarunuigolfclub.co.nz
SUMMARY:Mid-week Golf - visitors welcome - 11.30 tee off
DESCRIPTION:
URL:https://www.taumarunuigolfclub.co.nz/event/mid-week-golf-visitors-welcome-11-30-tee-off-7/
END:VEVENT
BEGIN:VEVENT
DTSTART;TZID=Pacific/Auckland:20260211T100000
DTEND;TZID=Pacific/Auckland:20260211T100000
DTSTAMP:20260423T002913
CREATED:20251227T213452Z
LAST-MODIFIED:20251227T213452Z
UID:8209-1770804000-1770804000@www.taumarunuigolfclub.co.nz
SUMMARY:Stableford Trophy 1
DESCRIPTION:
URL:https://www.taumarunuigolfclub.co.nz/event/stableford-trophy-1-2/
END:VEVENT
BEGIN:VEVENT
DTSTART;TZID=Pacific/Auckland:20260212T103000
DTEND;TZID=Pacific/Auckland:20260212T103000
DTSTAMP:20260423T002913
CREATED:20251203T204338Z
LAST-MODIFIED:20251221T201128Z
UID:8154-1770892200-1770892200@www.taumarunuigolfclub.co.nz
SUMMARY:Mid-week Golf - visitors welcome - 10.30 tee off
DESCRIPTION:
URL:https://www.taumarunuigolfclub.co.nz/event/mid-week-golf-visitors-welcome-10-30-tee-off-13/
END:VEVENT
BEGIN:VEVENT
DTSTART;TZID=Pacific/Auckland:20260214T113000
DTEND;TZID=Pacific/Auckland:20260214T113000
DTSTAMP:20260423T002913
CREATED:20251227T212245Z
LAST-MODIFIED:20251227T212245Z
UID:8190-1771068600-1771068600@www.taumarunuigolfclub.co.nz
SUMMARY:Tarrangower Shield 2
DESCRIPTION:
URL:https://www.taumarunuigolfclub.co.nz/event/tarrangower-shield-2/
END:VEVENT
BEGIN:VEVENT
DTSTART;TZID=Pacific/Auckland:20260217T113000
DTEND;TZID=Pacific/Auckland:20260217T113000
DTSTAMP:20260423T002913
CREATED:20251203T202745Z
LAST-MODIFIED:20251221T201056Z
UID:8124-1771327800-1771327800@www.taumarunuigolfclub.co.nz
SUMMARY:Mid-week Golf - visitors welcome - 11.30 tee off
DESCRIPTION:
URL:https://www.taumarunuigolfclub.co.nz/event/mid-week-golf-visitors-welcome-11-30-tee-off-8/
END:VEVENT
BEGIN:VEVENT
DTSTART;TZID=Pacific/Auckland:20260219T103000
DTEND;TZID=Pacific/Auckland:20260219T103000
DTSTAMP:20260423T002913
CREATED:20251203T204417Z
LAST-MODIFIED:20251221T201025Z
UID:8156-1771497000-1771497000@www.taumarunuigolfclub.co.nz
SUMMARY:Mid-week Golf - visitors welcome - 10.30 tee off
DESCRIPTION:
URL:https://www.taumarunuigolfclub.co.nz/event/mid-week-golf-visitors-welcome-10-30-tee-off-14/
END:VEVENT
BEGIN:VEVENT
DTSTART;VALUE=DATE:20260221
DTEND;VALUE=DATE:20260222
DTSTAMP:20260423T002913
CREATED:20260218T201356Z
LAST-MODIFIED:20260218T201701Z
UID:8386-1771632000-1771718399@www.taumarunuigolfclub.co.nz
SUMMARY:WEDDING CEREMONY ON COURSE
DESCRIPTION:
URL:https://www.taumarunuigolfclub.co.nz/event/wedding-ceremony-on-course/
END:VEVENT
BEGIN:VEVENT
DTSTART;TZID=Pacific/Auckland:20260222T113000
DTEND;TZID=Pacific/Auckland:20260222T113000
DTSTAMP:20260423T002913
CREATED:20251227T212324Z
LAST-MODIFIED:20260218T201429Z
UID:8192-1771759800-1771759800@www.taumarunuigolfclub.co.nz
SUMMARY:Tarrangower Shield 2
DESCRIPTION:
URL:https://www.taumarunuigolfclub.co.nz/event/tarrangower-shield-3/
END:VEVENT
BEGIN:VEVENT
DTSTART;TZID=Pacific/Auckland:20260224T113000
DTEND;TZID=Pacific/Auckland:20260224T113000
DTSTAMP:20260423T002913
CREATED:20251203T202855Z
LAST-MODIFIED:20251221T200945Z
UID:8128-1771932600-1771932600@www.taumarunuigolfclub.co.nz
SUMMARY:Mid-week Golf - visitors welcome - 11.30 tee off
DESCRIPTION:
URL:https://www.taumarunuigolfclub.co.nz/event/mid-week-golf-visitors-welcome-11-30-tee-off-10/
END:VEVENT
BEGIN:VEVENT
DTSTART;TZID=Pacific/Auckland:20260226T103000
DTEND;TZID=Pacific/Auckland:20260226T103000
DTSTAMP:20260423T002913
CREATED:20251203T204455Z
LAST-MODIFIED:20251221T201609Z
UID:8158-1772101800-1772101800@www.taumarunuigolfclub.co.nz
SUMMARY:Mid-week Golf - visitors welcome - 10.30 tee off
DESCRIPTION:
URL:https://www.taumarunuigolfclub.co.nz/event/mid-week-golf-visitors-welcome-10-30-tee-off-15/
END:VEVENT
BEGIN:VEVENT
DTSTART;TZID=Pacific/Auckland:20260228T113000
DTEND;TZID=Pacific/Auckland:20260228T113000
DTSTAMP:20260423T002913
CREATED:20251227T212402Z
LAST-MODIFIED:20260218T203122Z
UID:8194-1772278200-1772278200@www.taumarunuigolfclub.co.nz
SUMMARY:Tarrangower Shield 3
DESCRIPTION:
URL:https://www.taumarunuigolfclub.co.nz/event/tarrangower-sheild-4/
END:VEVENT
END:VCALENDAR