BEGIN:VCALENDAR
VERSION:2.0
PRODID:-//Taumarunui Golf Club - ECPv6.15.20//NONSGML v1.0//EN
CALSCALE:GREGORIAN
METHOD:PUBLISH
X-ORIGINAL-URL:https://www.taumarunuigolfclub.co.nz
X-WR-CALDESC:Events for Taumarunui Golf Club
REFRESH-INTERVAL;VALUE=DURATION:PT1H
X-Robots-Tag:noindex
X-PUBLISHED-TTL:PT1H
BEGIN:VTIMEZONE
TZID:Pacific/Auckland
BEGIN:STANDARD
TZOFFSETFROM:+1300
TZOFFSETTO:+1200
TZNAME:NZST
DTSTART:20250405T140000
END:STANDARD
BEGIN:DAYLIGHT
TZOFFSETFROM:+1200
TZOFFSETTO:+1300
TZNAME:NZDT
DTSTART:20250927T140000
END:DAYLIGHT
BEGIN:STANDARD
TZOFFSETFROM:+1300
TZOFFSETTO:+1200
TZNAME:NZST
DTSTART:20260404T140000
END:STANDARD
BEGIN:DAYLIGHT
TZOFFSETFROM:+1200
TZOFFSETTO:+1300
TZNAME:NZDT
DTSTART:20260926T140000
END:DAYLIGHT
BEGIN:STANDARD
TZOFFSETFROM:+1300
TZOFFSETTO:+1200
TZNAME:NZST
DTSTART:20270403T140000
END:STANDARD
BEGIN:DAYLIGHT
TZOFFSETFROM:+1200
TZOFFSETTO:+1300
TZNAME:NZDT
DTSTART:20270925T140000
END:DAYLIGHT
END:VTIMEZONE
BEGIN:VEVENT
DTSTART;TZID=Pacific/Auckland:20260304T100000
DTEND;TZID=Pacific/Auckland:20260304T100000
DTSTAMP:20260422T223052
CREATED:20251227T213011Z
LAST-MODIFIED:20251227T213011Z
UID:8207-1772618400-1772618400@www.taumarunuigolfclub.co.nz
SUMMARY:Ladies Opening Day
DESCRIPTION:
URL:https://www.taumarunuigolfclub.co.nz/event/ladies-opening-day/
END:VEVENT
BEGIN:VEVENT
DTSTART;TZID=Pacific/Auckland:20260307T113000
DTEND;TZID=Pacific/Auckland:20260307T113000
DTSTAMP:20260422T223052
CREATED:20251227T212609Z
LAST-MODIFIED:20260218T203227Z
UID:8197-1772883000-1772883000@www.taumarunuigolfclub.co.nz
SUMMARY:Tarrangower Shield 4
DESCRIPTION:
URL:https://www.taumarunuigolfclub.co.nz/event/tarrangower-shield-final/
END:VEVENT
BEGIN:VEVENT
DTSTART;TZID=Pacific/Auckland:20260311T100000
DTEND;TZID=Pacific/Auckland:20260311T100000
DTSTAMP:20260422T223052
CREATED:20251227T213901Z
LAST-MODIFIED:20251227T213901Z
UID:8220-1773223200-1773223200@www.taumarunuigolfclub.co.nz
SUMMARY:Stableford Trophy 1
DESCRIPTION:
URL:https://www.taumarunuigolfclub.co.nz/event/stableford-trophy-1-3/
END:VEVENT
BEGIN:VEVENT
DTSTART;TZID=Pacific/Auckland:20260314T113000
DTEND;TZID=Pacific/Auckland:20260314T113000
DTSTAMP:20260422T223052
CREATED:20251227T212638Z
LAST-MODIFIED:20260218T202544Z
UID:8199-1773487800-1773487800@www.taumarunuigolfclub.co.nz
SUMMARY:Tarrangower Final & Club Day
DESCRIPTION:
URL:https://www.taumarunuigolfclub.co.nz/event/club-day-3/
END:VEVENT
BEGIN:VEVENT
DTSTART;TZID=Pacific/Auckland:20260318T100000
DTEND;TZID=Pacific/Auckland:20260318T100000
DTSTAMP:20260422T223052
CREATED:20251227T213548Z
LAST-MODIFIED:20251227T213548Z
UID:8211-1773828000-1773828000@www.taumarunuigolfclub.co.nz
SUMMARY:LGU 1 & National Teams Event Qualifier
DESCRIPTION:
URL:https://www.taumarunuigolfclub.co.nz/event/lgu-1-national-teams-event-qualifier/
END:VEVENT
BEGIN:VEVENT
DTSTART;TZID=Pacific/Auckland:20260321T113000
DTEND;TZID=Pacific/Auckland:20260321T113000
DTSTAMP:20260422T223052
CREATED:20251227T212742Z
LAST-MODIFIED:20251227T212748Z
UID:8201-1774092600-1774092600@www.taumarunuigolfclub.co.nz
SUMMARY:Captain's Trophy Qualifying Round
DESCRIPTION:
URL:https://www.taumarunuigolfclub.co.nz/event/captains-trophy-qualifying-round/
END:VEVENT
BEGIN:VEVENT
DTSTART;TZID=Pacific/Auckland:20260325T100000
DTEND;TZID=Pacific/Auckland:20260325T100000
DTSTAMP:20260422T223052
CREATED:20251227T213956Z
LAST-MODIFIED:20251227T213956Z
UID:8222-1774432800-1774432800@www.taumarunuigolfclub.co.nz
SUMMARY:Nancy MacCormick Foursomes - 36 holes
DESCRIPTION:
URL:https://www.taumarunuigolfclub.co.nz/event/nancy-maccormick-foursomes-36-holes-4/
END:VEVENT
BEGIN:VEVENT
DTSTART;TZID=Pacific/Auckland:20260328T113000
DTEND;TZID=Pacific/Auckland:20260328T113000
DTSTAMP:20260422T223052
CREATED:20251227T212821Z
LAST-MODIFIED:20251227T212821Z
UID:8203-1774697400-1774697400@www.taumarunuigolfclub.co.nz
SUMMARY:Captain's Trophy 1
DESCRIPTION:
URL:https://www.taumarunuigolfclub.co.nz/event/captains-trophy-1-2/
END:VEVENT
BEGIN:VEVENT
DTSTART;VALUE=DATE:20260329
DTEND;VALUE=DATE:20260330
DTSTAMP:20260422T223052
CREATED:20251227T212924Z
LAST-MODIFIED:20251227T212924Z
UID:8205-1774742400-1774828799@www.taumarunuigolfclub.co.nz
SUMMARY:Course Closed for Championship Pennants
DESCRIPTION:
URL:https://www.taumarunuigolfclub.co.nz/event/course-closed-for-championship-pennants/
END:VEVENT
END:VCALENDAR